BEGIN:VCALENDAR
VERSION:2.0
PRODID:-//Little Falls Public Library - ECPv6.15.20//NONSGML v1.0//EN
CALSCALE:GREGORIAN
METHOD:PUBLISH
X-ORIGINAL-URL:https://littlefallslibrary.org
X-WR-CALDESC:Events for Little Falls Public Library
REFRESH-INTERVAL;VALUE=DURATION:PT1H
X-Robots-Tag:noindex
X-PUBLISHED-TTL:PT1H
BEGIN:VTIMEZONE
TZID:America/New_York
BEGIN:DAYLIGHT
TZOFFSETFROM:-0500
TZOFFSETTO:-0400
TZNAME:EDT
DTSTART:20250309T070000
END:DAYLIGHT
BEGIN:STANDARD
TZOFFSETFROM:-0400
TZOFFSETTO:-0500
TZNAME:EST
DTSTART:20251102T060000
END:STANDARD
BEGIN:DAYLIGHT
TZOFFSETFROM:-0500
TZOFFSETTO:-0400
TZNAME:EDT
DTSTART:20260308T070000
END:DAYLIGHT
BEGIN:STANDARD
TZOFFSETFROM:-0400
TZOFFSETTO:-0500
TZNAME:EST
DTSTART:20261101T060000
END:STANDARD
BEGIN:DAYLIGHT
TZOFFSETFROM:-0500
TZOFFSETTO:-0400
TZNAME:EDT
DTSTART:20270314T070000
END:DAYLIGHT
BEGIN:STANDARD
TZOFFSETFROM:-0400
TZOFFSETTO:-0500
TZNAME:EST
DTSTART:20271107T060000
END:STANDARD
END:VTIMEZONE
BEGIN:VEVENT
DTSTART;TZID=America/New_York:20260428T110000
DTEND;TZID=America/New_York:20260428T120000
DTSTAMP:20260424T040238
CREATED:20260402T143448Z
LAST-MODIFIED:20260402T143449Z
UID:10001033-1777374000-1777377600@littlefallslibrary.org
SUMMARY:Rhyme Time
DESCRIPTION:We will read stories\, sing songs\, and offer lots of opportunities for movement! There will be no rhyme time on May 26th.  \n\n\n\nPlease click here to register.
URL:https://littlefallslibrary.org/event/rhyme-time-2/2026-04-28/
LOCATION:Little Falls Public Library – In House\, 8 Warren Street\, Little Falls\, NJ\, 07424\, United States
CATEGORIES:Kids and Teens Events
END:VEVENT
BEGIN:VEVENT
DTSTART;TZID=America/New_York:20260429T183000
DTEND;TZID=America/New_York:20260429T193000
DTSTAMP:20260424T040238
CREATED:20260316T222957Z
LAST-MODIFIED:20260316T222958Z
UID:10000923-1777487400-1777491000@littlefallslibrary.org
SUMMARY:Pokémon Meetup
DESCRIPTION:Come and celebrate all things Pokemon! Bring your binders and cards to show off your collection and stay for our trivia!  \n\n\n\nNo registration required. All ages are welcome!
URL:https://littlefallslibrary.org/event/pokemon-meetup/
LOCATION:Little Falls Public Library – In House\, 8 Warren Street\, Little Falls\, NJ\, 07424\, United States
CATEGORIES:Kids and Teens Events
END:VEVENT
BEGIN:VEVENT
DTSTART;TZID=America/New_York:20260430T110000
DTEND;TZID=America/New_York:20260430T120000
DTSTAMP:20260424T040238
CREATED:20260402T143853Z
LAST-MODIFIED:20260402T143856Z
UID:10001039-1777546800-1777550400@littlefallslibrary.org
SUMMARY:Preschool Story time
DESCRIPTION:This story time features longer stories\, songs\, rhymes\, and more! There will be no story time on May 21st.  \n\n\n\nPlease click here to register.
URL:https://littlefallslibrary.org/event/preschool-story-time-2/2026-04-30/
LOCATION:Little Falls Public Library – In House\, 8 Warren Street\, Little Falls\, NJ\, 07424\, United States
CATEGORIES:Kids and Teens Events
END:VEVENT
BEGIN:VEVENT
DTSTART;TZID=America/New_York:20260430T170000
DTEND;TZID=America/New_York:20260430T180000
DTSTAMP:20260424T040238
CREATED:20260321T172643Z
LAST-MODIFIED:20260402T151009Z
UID:10000926-1777568400-1777572000@littlefallslibrary.org
SUMMARY:Child Focus (CASA)
DESCRIPTION:The Child Focus Group of Passaic County will be here so that you can explore the possibility of joining their cause\, the Court Appointed Special Advocates.
URL:https://littlefallslibrary.org/event/child-focus-casa/
LOCATION:Little Falls Public Library – In House\, 8 Warren Street\, Little Falls\, NJ\, 07424\, United States
CATEGORIES:Adult Events,Kids and Teens Events
END:VEVENT
BEGIN:VEVENT
DTSTART;TZID=America/New_York:20260504T183000
DTEND;TZID=America/New_York:20260504T193000
DTSTAMP:20260424T040238
CREATED:20260408T164535Z
LAST-MODIFIED:20260408T164536Z
UID:10001064-1777919400-1777923000@littlefallslibrary.org
SUMMARY:Star Wars Jeopardy
DESCRIPTION:May the 4th be with you! Join us for our Star Wars Jeopardy\, you can team up or go Solo! Come and show your knowledge to win a prize! \n\n\n\nPlease click here to register.
URL:https://littlefallslibrary.org/event/star-wars-jeopardy/
LOCATION:Little Falls Public Library – In House\, 8 Warren Street\, Little Falls\, NJ\, 07424\, United States
CATEGORIES:Kids and Teens Events
END:VEVENT
BEGIN:VEVENT
DTSTART;TZID=America/New_York:20260505T110000
DTEND;TZID=America/New_York:20260505T120000
DTSTAMP:20260424T040238
CREATED:20260402T143448Z
LAST-MODIFIED:20260402T143449Z
UID:10001034-1777978800-1777982400@littlefallslibrary.org
SUMMARY:Rhyme Time
DESCRIPTION:We will read stories\, sing songs\, and offer lots of opportunities for movement! There will be no rhyme time on May 26th.  \n\n\n\nPlease click here to register.
URL:https://littlefallslibrary.org/event/rhyme-time-2/2026-05-05/
LOCATION:Little Falls Public Library – In House\, 8 Warren Street\, Little Falls\, NJ\, 07424\, United States
CATEGORIES:Kids and Teens Events
END:VEVENT
BEGIN:VEVENT
DTSTART;TZID=America/New_York:20260506T183000
DTEND;TZID=America/New_York:20260506T193000
DTSTAMP:20260424T040238
CREATED:20260408T164856Z
LAST-MODIFIED:20260408T164858Z
UID:10001065-1778092200-1778095800@littlefallslibrary.org
SUMMARY:Teen Board Game Night
DESCRIPTION:Calling all teens who love board games! Join us this month for our teen board game night\, we will be playing Moose Master! \n\n\n\nA fast-paced\, family-friendly party card game centered on silly rules\, quick reactions\, and penalty cards. \n\n\n\nPlease click here to register.
URL:https://littlefallslibrary.org/event/teen-board-game-night/
LOCATION:Little Falls Public Library – In House\, 8 Warren Street\, Little Falls\, NJ\, 07424\, United States
CATEGORIES:Kids and Teens Events
END:VEVENT
BEGIN:VEVENT
DTSTART;TZID=America/New_York:20260507T110000
DTEND;TZID=America/New_York:20260507T120000
DTSTAMP:20260424T040238
CREATED:20260402T143853Z
LAST-MODIFIED:20260402T143856Z
UID:10001040-1778151600-1778155200@littlefallslibrary.org
SUMMARY:Preschool Story time
DESCRIPTION:This story time features longer stories\, songs\, rhymes\, and more! There will be no story time on May 21st.  \n\n\n\nPlease click here to register.
URL:https://littlefallslibrary.org/event/preschool-story-time-2/2026-05-07/
LOCATION:Little Falls Public Library – In House\, 8 Warren Street\, Little Falls\, NJ\, 07424\, United States
CATEGORIES:Kids and Teens Events
END:VEVENT
BEGIN:VEVENT
DTSTART;TZID=America/New_York:20260508T101500
DTEND;TZID=America/New_York:20260508T110000
DTSTAMP:20260424T040238
CREATED:20260408T174614Z
LAST-MODIFIED:20260414T214047Z
UID:10001068-1778235300-1778238000@littlefallslibrary.org
SUMMARY:Preschool Yoga
DESCRIPTION:Amy from MindfulNest Co. is hosting Preschool Yoga for kids! Don’t forget to bring a mat or towel.  \n\n\n\nPlease register click here to register.
URL:https://littlefallslibrary.org/event/preschool-yoga/
LOCATION:Little Falls Public Library – In House\, 8 Warren Street\, Little Falls\, NJ\, 07424\, United States
CATEGORIES:Kids and Teens Events
END:VEVENT
BEGIN:VEVENT
DTSTART;TZID=America/New_York:20260512T110000
DTEND;TZID=America/New_York:20260512T120000
DTSTAMP:20260424T040238
CREATED:20260402T143448Z
LAST-MODIFIED:20260402T143449Z
UID:10001035-1778583600-1778587200@littlefallslibrary.org
SUMMARY:Rhyme Time
DESCRIPTION:We will read stories\, sing songs\, and offer lots of opportunities for movement! There will be no rhyme time on May 26th.  \n\n\n\nPlease click here to register.
URL:https://littlefallslibrary.org/event/rhyme-time-2/2026-05-12/
LOCATION:Little Falls Public Library – In House\, 8 Warren Street\, Little Falls\, NJ\, 07424\, United States
CATEGORIES:Kids and Teens Events
END:VEVENT
BEGIN:VEVENT
DTSTART;TZID=America/New_York:20260512T153000
DTEND;TZID=America/New_York:20260512T163000
DTSTAMP:20260424T040238
CREATED:20260422T181921Z
LAST-MODIFIED:20260422T181923Z
UID:10001076-1778599800-1778603400@littlefallslibrary.org
SUMMARY:Kids Video Gaming (Gr. 5-8)
DESCRIPTION:Love gaming? Come and share your gaming skills while competing against your friends! For grades 5 through 8. \n\n\n\nPlease click here to register.
URL:https://littlefallslibrary.org/event/kids-video-gaming-gr-5-8/
LOCATION:Little Falls Public Library – In House\, 8 Warren Street\, Little Falls\, NJ\, 07424\, United States
CATEGORIES:Kids and Teens Events
END:VEVENT
BEGIN:VEVENT
DTSTART;TZID=America/New_York:20260513T153000
DTEND;TZID=America/New_York:20260513T163000
DTSTAMP:20260424T040238
CREATED:20260416T145831Z
LAST-MODIFIED:20260416T145832Z
UID:10001070-1778686200-1778689800@littlefallslibrary.org
SUMMARY:Chess Club With Mr. Campbell
DESCRIPTION:Challenge a new opponent to a game of chess or learn new strategies and techniques! \n\n\n\nAll ages and levels of experience are welcome!
URL:https://littlefallslibrary.org/event/chess-club-with-mr-campbell-2/
LOCATION:Little Falls Public Library – In House\, 8 Warren Street\, Little Falls\, NJ\, 07424\, United States
CATEGORIES:Kids and Teens Events
END:VEVENT
BEGIN:VEVENT
DTSTART;TZID=America/New_York:20260513T170000
DTEND;TZID=America/New_York:20260513T183000
DTSTAMP:20260424T040238
CREATED:20260420T173927Z
LAST-MODIFIED:20260420T174216Z
UID:10001075-1778691600-1778697000@littlefallslibrary.org
SUMMARY:Read to a Dog
DESCRIPTION:Come read to Tucker\, a certified therapy dog\, and help your child build confidence and learn to associate reading with a positive\, comforting experience. \n\n\n\nPlease register your child for one time slot by clicking the hyperlink below: \n\n\n\n\n5:00 pm \n\n\n\n5:15 pm\n\n\n\n5:30 pm\n\n\n\n5:45 pm\n\n\n\n6:00 pm\n\n\n\n6:15 pm
URL:https://littlefallslibrary.org/event/read-to-a-dog/
LOCATION:Little Falls Public Library – In House\, 8 Warren Street\, Little Falls\, NJ\, 07424\, United States
CATEGORIES:Kids and Teens Events
END:VEVENT
BEGIN:VEVENT
DTSTART;TZID=America/New_York:20260514T110000
DTEND;TZID=America/New_York:20260514T120000
DTSTAMP:20260424T040238
CREATED:20260402T143853Z
LAST-MODIFIED:20260402T143856Z
UID:10001041-1778756400-1778760000@littlefallslibrary.org
SUMMARY:Preschool Story time
DESCRIPTION:This story time features longer stories\, songs\, rhymes\, and more! There will be no story time on May 21st.  \n\n\n\nPlease click here to register.
URL:https://littlefallslibrary.org/event/preschool-story-time-2/2026-05-14/
LOCATION:Little Falls Public Library – In House\, 8 Warren Street\, Little Falls\, NJ\, 07424\, United States
CATEGORIES:Kids and Teens Events
END:VEVENT
BEGIN:VEVENT
DTSTART;TZID=America/New_York:20260515T103000
DTEND;TZID=America/New_York:20260515T113000
DTSTAMP:20260424T040238
CREATED:20260413T162640Z
LAST-MODIFIED:20260413T162719Z
UID:10001069-1778841000-1778844600@littlefallslibrary.org
SUMMARY:Boogie Woogie Babies
DESCRIPTION:Class will consist of singing\, dancing\, and working on fine motor skills. Ages 5 and under. \n\n\n\nClick here to register.
URL:https://littlefallslibrary.org/event/boogie-woogie-babies-2/
LOCATION:Little Falls Public Library – In House\, 8 Warren Street\, Little Falls\, NJ\, 07424\, United States
CATEGORIES:Kids and Teens Events
END:VEVENT
BEGIN:VEVENT
DTSTART;TZID=America/New_York:20260518T183000
DTEND;TZID=America/New_York:20260518T193000
DTSTAMP:20260424T040238
CREATED:20260416T150303Z
LAST-MODIFIED:20260416T150304Z
UID:10001071-1779129000-1779132600@littlefallslibrary.org
SUMMARY:Dungeons and Dragons (Gr. 5-8)
DESCRIPTION:It’s time for an adventure! We will provide necessary materials\, including dice and character sheets. All you need is your imagination. \n\n\n\nFor grades 5 through 8. \n\n\n\nPlease click here to register.
URL:https://littlefallslibrary.org/event/dungeons-and-dragons-gr-5-8/
LOCATION:Little Falls Public Library – In House\, 8 Warren Street\, Little Falls\, NJ\, 07424\, United States
CATEGORIES:Kids and Teens Events
END:VEVENT
BEGIN:VEVENT
DTSTART;TZID=America/New_York:20260519T110000
DTEND;TZID=America/New_York:20260519T120000
DTSTAMP:20260424T040238
CREATED:20260402T143448Z
LAST-MODIFIED:20260402T143449Z
UID:10001036-1779188400-1779192000@littlefallslibrary.org
SUMMARY:Rhyme Time
DESCRIPTION:We will read stories\, sing songs\, and offer lots of opportunities for movement! There will be no rhyme time on May 26th.  \n\n\n\nPlease click here to register.
URL:https://littlefallslibrary.org/event/rhyme-time-2/2026-05-19/
LOCATION:Little Falls Public Library – In House\, 8 Warren Street\, Little Falls\, NJ\, 07424\, United States
CATEGORIES:Kids and Teens Events
END:VEVENT
BEGIN:VEVENT
DTSTART;TZID=America/New_York:20260521T110000
DTEND;TZID=America/New_York:20260521T120000
DTSTAMP:20260424T040238
CREATED:20260402T143853Z
LAST-MODIFIED:20260402T143856Z
UID:10001042-1779361200-1779364800@littlefallslibrary.org
SUMMARY:Preschool Story time
DESCRIPTION:This story time features longer stories\, songs\, rhymes\, and more! There will be no story time on May 21st.  \n\n\n\nPlease click here to register.
URL:https://littlefallslibrary.org/event/preschool-story-time-2/2026-05-21/
LOCATION:Little Falls Public Library – In House\, 8 Warren Street\, Little Falls\, NJ\, 07424\, United States
CATEGORIES:Kids and Teens Events
END:VEVENT
BEGIN:VEVENT
DTSTART;TZID=America/New_York:20260522T103000
DTEND;TZID=America/New_York:20260522T110000
DTSTAMP:20260424T040238
CREATED:20260416T153234Z
LAST-MODIFIED:20260416T153235Z
UID:10001074-1779445800-1779447600@littlefallslibrary.org
SUMMARY:Wiggle and Giggle With Miss Bee
DESCRIPTION:Join Miss Bee For a fun high energy music and movement program for children 5 and under! \n\n\n\nPlease click here to register.
URL:https://littlefallslibrary.org/event/wiggle-and-giggle-with-miss-bee/
LOCATION:Little Falls Public Library – In House\, 8 Warren Street\, Little Falls\, NJ\, 07424\, United States
CATEGORIES:Kids and Teens Events
END:VEVENT
BEGIN:VEVENT
DTSTART;TZID=America/New_York:20260526T110000
DTEND;TZID=America/New_York:20260526T120000
DTSTAMP:20260424T040238
CREATED:20260402T143448Z
LAST-MODIFIED:20260402T143449Z
UID:10001037-1779793200-1779796800@littlefallslibrary.org
SUMMARY:Rhyme Time
DESCRIPTION:We will read stories\, sing songs\, and offer lots of opportunities for movement! There will be no rhyme time on May 26th.  \n\n\n\nPlease click here to register.
URL:https://littlefallslibrary.org/event/rhyme-time-2/2026-05-26/
LOCATION:Little Falls Public Library – In House\, 8 Warren Street\, Little Falls\, NJ\, 07424\, United States
CATEGORIES:Kids and Teens Events
END:VEVENT
BEGIN:VEVENT
DTSTART;TZID=America/New_York:20260528T110000
DTEND;TZID=America/New_York:20260528T120000
DTSTAMP:20260424T040238
CREATED:20260402T143853Z
LAST-MODIFIED:20260402T143856Z
UID:10001043-1779966000-1779969600@littlefallslibrary.org
SUMMARY:Preschool Story time
DESCRIPTION:This story time features longer stories\, songs\, rhymes\, and more! There will be no story time on May 21st.  \n\n\n\nPlease click here to register.
URL:https://littlefallslibrary.org/event/preschool-story-time-2/2026-05-28/
LOCATION:Little Falls Public Library – In House\, 8 Warren Street\, Little Falls\, NJ\, 07424\, United States
CATEGORIES:Kids and Teens Events
END:VEVENT
BEGIN:VEVENT
DTSTART;TZID=America/New_York:20260602T110000
DTEND;TZID=America/New_York:20260602T120000
DTSTAMP:20260424T040238
CREATED:20260402T143448Z
LAST-MODIFIED:20260402T143449Z
UID:10001038-1780398000-1780401600@littlefallslibrary.org
SUMMARY:Rhyme Time
DESCRIPTION:We will read stories\, sing songs\, and offer lots of opportunities for movement! There will be no rhyme time on May 26th.  \n\n\n\nPlease click here to register.
URL:https://littlefallslibrary.org/event/rhyme-time-2/2026-06-02/
LOCATION:Little Falls Public Library – In House\, 8 Warren Street\, Little Falls\, NJ\, 07424\, United States
CATEGORIES:Kids and Teens Events
END:VEVENT
BEGIN:VEVENT
DTSTART;TZID=America/New_York:20260604T110000
DTEND;TZID=America/New_York:20260604T120000
DTSTAMP:20260424T040238
CREATED:20260402T143853Z
LAST-MODIFIED:20260402T143856Z
UID:10001044-1780570800-1780574400@littlefallslibrary.org
SUMMARY:Preschool Story time
DESCRIPTION:This story time features longer stories\, songs\, rhymes\, and more! There will be no story time on May 21st.  \n\n\n\nPlease click here to register.
URL:https://littlefallslibrary.org/event/preschool-story-time-2/2026-06-04/
LOCATION:Little Falls Public Library – In House\, 8 Warren Street\, Little Falls\, NJ\, 07424\, United States
CATEGORIES:Kids and Teens Events
END:VEVENT
END:VCALENDAR